BEGIN:VCALENDAR
VERSION:2.0
PRODID:-//VANGAURD - ECPv6.2.0.1//NONSGML v1.0//EN
CALSCALE:GREGORIAN
METHOD:PUBLISH
X-ORIGINAL-URL:https://demo.vias.edu.pk
X-WR-CALDESC:Events for VANGAURD
REFRESH-INTERVAL;VALUE=DURATION:PT1H
X-Robots-Tag:noindex
X-PUBLISHED-TTL:PT1H
BEGIN:VTIMEZONE
TZID:UTC
BEGIN:STANDARD
TZOFFSETFROM:+0000
TZOFFSETTO:+0000
TZNAME:UTC
DTSTART:20220101T000000
END:STANDARD
END:VTIMEZONE
BEGIN:VEVENT
DTSTART;VALUE=DATE:20220620
DTEND;VALUE=DATE:20220621
DTSTAMP:20260424T183202
CREATED:20220612T204354Z
LAST-MODIFIED:20220612T204631Z
UID:6538-1655683200-1655769599@demo.vias.edu.pk
SUMMARY:Mindverse Launching
DESCRIPTION:Mindverse is about to embark on a journey of transformation and impact. We are thrilled to present ourselves for public service. Mindverse launching is going to happen soon. Stay tuned for the schedule.
URL:https://demo.vias.edu.pk/event/mindverse-launching-ceremony/
LOCATION:Kingster Grand Hall\, 1810 Campus Way NE Bothell\, Washington\, United States
CATEGORIES:Mindverse Launching
ORGANIZER;CN="Kingster%27s%20Social%20Club":MAILTO:clubs@kingsteruni.edu
END:VEVENT
END:VCALENDAR