BEGIN:VCALENDAR
VERSION:2.0
PRODID:-//VANGAURD - ECPv6.2.0.1//NONSGML v1.0//EN
CALSCALE:GREGORIAN
METHOD:PUBLISH
X-ORIGINAL-URL:https://demo.vias.edu.pk
X-WR-CALDESC:Events for VANGAURD
REFRESH-INTERVAL;VALUE=DURATION:PT1H
X-Robots-Tag:noindex
X-PUBLISHED-TTL:PT1H
BEGIN:VTIMEZONE
TZID:UTC
BEGIN:STANDARD
TZOFFSETFROM:+0000
TZOFFSETTO:+0000
TZNAME:UTC
DTSTART:20220101T000000
END:STANDARD
END:VTIMEZONE
BEGIN:VEVENT
DTSTART;TZID=UTC:20220616T100000
DTEND;TZID=UTC:20220616T163000
DTSTAMP:20260424T183223
CREATED:20220616T115715Z
LAST-MODIFIED:20220612T203944Z
UID:5989-1655373600-1655397000@demo.vias.edu.pk
SUMMARY:Kingster’s Alumni Hot Air Ballon Trip in Turkey
DESCRIPTION:Far far away\, behind the word mountains\, far from the countries Vokalia and Consonantia\, there live the blind texts. Separated they live in Bookmarksgrove right at the coast of the Semantics\, a large language ocean. A small river named Duden flows by their place and supplies it with the necessary regelialia. It is a paradisematic country\, in which roasted parts of sentences fly into your mouth. Even the all-powerful Pointing has no control about the blind texts it is an almost unorthographic life One day however a small line of blind text by the name
URL:https://demo.vias.edu.pk/event/kingsters-alumni-hot-air-ballon-trip-in-turkey/
LOCATION:Kingster Grand Hall\, 1810 Campus Way NE Bothell\, Washington\, United States
CATEGORIES:Mindverse Launching
ATTACH;FMTTYPE=:
ORGANIZER;CN="Kingster%27s%20Social%20Club":MAILTO:clubs@kingsteruni.edu
END:VEVENT
END:VCALENDAR